Workbook

Sheet Summary
A1: California AI Visibility Index — Pilot (September 2026)
A2: Who ChatGPT and Perplexity recommend for "best {industry} in {city}, CA" — 5 cities × 4 industries × 2 AI tools
A4: Agreement between ChatGPT and Perplexity (businesses named by both, top 5 each)
A5: City | B5: Dentist | C5: Personal Injury Lawyer | D5: Plumber | E5: Landscaping | F5: Total
A6: Bakersfield | B6: =COUNTIFS('All Results'!$A:$A,"Perplexity",'All Results'!$B:$B,$A6,'All Results'!$C:$C,B$5,'All Results'!$I:$I,"YES") | C6: =COUNTIFS('All Results'!$A:$A,"Perplexity",'All Results'!$B:$B,$A6,'All Results'!$C:$C,C$5,'All Results'!$I:$I,"YES") | D6: =COUNTIFS('All Results'!$A:$A,"Perplexity",'All Results'!$B:$B,$A6,'All Results'!$C:$C,D$5,'All Results'!$I:$I,"YES") | E6: =COUNTIFS('All Results'!$A:$A,"Perplexity",'All Results'!$B:$B,$A6,'All Results'!$C:$C,E$5,'All Results'!$I:$I,"YES") | F6: =SUM(B6:E6)
A7: Fresno | B7: =COUNTIFS('All Results'!$A:$A,"Perplexity",'All Results'!$B:$B,$A7,'All Results'!$C:$C,B$5,'All Results'!$I:$I,"YES") | C7: =COUNTIFS('All Results'!$A:$A,"Perplexity",'All Results'!$B:$B,$A7,'All Results'!$C:$C,C$5,'All Results'!$I:$I,"YES") | D7: =COUNTIFS('All Results'!$A:$A,"Perplexity",'All Results'!$B:$B,$A7,'All Results'!$C:$C,D$5,'All Results'!$I:$I,"YES") | E7: =COUNTIFS('All Results'!$A:$A,"Perplexity",'All Results'!$B:$B,$A7,'All Results'!$C:$C,E$5,'All Results'!$I:$I,"YES") | F7: =SUM(B7:E7)
A8: Los Angeles | B8: =COUNTIFS('All Results'!$A:$A,"Perplexity",'All Results'!$B:$B,$A8,'All Results'!$C:$C,B$5,'All Results'!$I:$I,"YES") | C8: =COUNTIFS('All Results'!$A:$A,"Perplexity",'All Results'!$B:$B,$A8,'All Results'!$C:$C,C$5,'All Results'!$I:$I,"YES") | D8: =COUNTIFS('All Results'!$A:$A,"Perplexity",'All Results'!$B:$B,$A8,'All Results'!$C:$C,D$5,'All Results'!$I:$I,"YES") | E8: =COUNTIFS('All Results'!$A:$A,"Perplexity",'All Results'!$B:$B,$A8,'All Results'!$C:$C,E$5,'All Results'!$I:$I,"YES") | F8: =SUM(B8:E8)
A9: San Diego | B9: =COUNTIFS('All Results'!$A:$A,"Perplexity",'All Results'!$B:$B,$A9,'All Results'!$C:$C,B$5,'All Results'!$I:$I,"YES") | C9: =COUNTIFS('All Results'!$A:$A,"Perplexity",'All Results'!$B:$B,$A9,'All Results'!$C:$C,C$5,'All Results'!$I:$I,"YES") | D9: =COUNTIFS('All Results'!$A:$A,"Perplexity",'All Results'!$B:$B,$A9,'All Results'!$C:$C,D$5,'All Results'!$I:$I,"YES") | E9: =COUNTIFS('All Results'!$A:$A,"Perplexity",'All Results'!$B:$B,$A9,'All Results'!$C:$C,E$5,'All Results'!$I:$I,"YES") | F9: =SUM(B9:E9)
A10: Sacramento | B10: =COUNTIFS('All Results'!$A:$A,"Perplexity",'All Results'!$B:$B,$A10,'All Results'!$C:$C,B$5,'All Results'!$I:$I,"YES") | C10: =COUNTIFS('All Results'!$A:$A,"Perplexity",'All Results'!$B:$B,$A10,'All Results'!$C:$C,C$5,'All Results'!$I:$I,"YES") | D10: =COUNTIFS('All Results'!$A:$A,"Perplexity",'All Results'!$B:$B,$A10,'All Results'!$C:$C,D$5,'All Results'!$I:$I,"YES") | E10: =COUNTIFS('All Results'!$A:$A,"Perplexity",'All Results'!$B:$B,$A10,'All Results'!$C:$C,E$5,'All Results'!$I:$I,"YES") | F10: =SUM(B10:E10)
A11: Total | B11: =SUM(B6:B10) | C11: =SUM(C6:C10) | D11: =SUM(D6:D10) | E11: =SUM(E6:E10) | F11: =SUM(F6:F10)
A12: Businesses named by Perplexity (top 5s) | F12: =COUNTIF('All Results'!$A:$A,"Perplexity")
A13: Share also named by ChatGPT | F13: =F11/F12
A14: → Different AI tools disagree on most local recommendations
A16: Key findings
A17: 1. AI tools disagree. Most businesses in a ChatGPT top 5 were NOT in Perplexity's top 5 for the same search (see agreement table).
A18: 2. The same AI gives different winners depending on mode. Perplexity logged-out named Carlson, Capital Dental, Signature Smile for Bakersfield dentists; logged-in named Salin, Smyle, Santa Rita.
A19: 3. Reviews are the #1 signal. Dentist and plumber answers were ranked almost directly by rating × review count (e.g., LA plumbers listed in exact Yelp review-count order).
A20: 4. Third-party directories decide lawyers. Super Lawyers, Avvo, Justia and Best Law Firms supplied most lawyer picks — not firms' own sites.
A21: 5. Clear websites win where reviews are thin. LA landscapers were picked for plainly stated specialties (design-build, drought-tolerant, neighborhoods served).
A22: 6. Specific, quotable proof gets repeated: '$117M result', 'since 1964', '145+ $1M verdicts', '$8,000 project minimum'.
A23: 7. Small sources matter: Reddit threads, Yahoo Local 'best of' roundups and review widgets (Birdeye, Yably, Demandforce) put businesses into answers.
A24: 8. Review numbers conflict across tools (Miyasaki Dental: 5.0/392 on Perplexity vs 4.7/57 on ChatGPT) — consistent listings across platforms matter.
A25: 9. Generic prompts get no names. 'Best lawyer in Bakersfield' and 'top 5 best dentists' returned only directories — AI needs a specific service to name businesses.

Sheet All Results
A1: AI Tool | B1: City | C1: Industry | D1: Rank | E1: Business | F1: Rating | G1: Reviews | H1: Source AI Cited | I1: Named by BOTH tools?
A2: Perplexity | B2: Bakersfield | C2: Dentist | D2: 1 | E2: Salin Dentistry | F2: 4.9 | G2: 899 | H2: Local listings | I2: =IF(COUNTIFS($E$2:$E$199,E2,$B$2:$B$199,B2,$C$2:$C$199,C2,$A$2:$A$199,"<>"&A2)>0,"YES","")
A3: Perplexity | B3: Bakersfield | C3: Dentist | D3: 2 | E3: Smyle Dental Bakersfield | F3: 4.9 | G3: 828 | H3: Local listings | I3: =IF(COUNTIFS($E$2:$E$199,E3,$B$2:$B$199,B3,$C$2:$C$199,C3,$A$2:$A$199,"<>"&A3)>0,"YES","")
A4: Perplexity | B4: Bakersfield | C4: Dentist | D4: 3 | E4: Santa Rita Dental | F4: 4.9 | G4: 688 | H4: Local listings | I4: =IF(COUNTIFS($E$2:$E$199,E4,$B$2:$B$199,B4,$C$2:$C$199,C4,$A$2:$A$199,"<>"&A4)>0,"YES","")
A5: Perplexity | B5: Bakersfield | C5: Dentist | D5: 4 | E5: Bakersfield Smile Design | F5: 4.8 | G5: 587 | H5: Local listings | I5: =IF(COUNTIFS($E$2:$E$199,E5,$B$2:$B$199,B5,$C$2:$C$199,C5,$A$2:$A$199,"<>"&A5)>0,"YES","")
A6: Perplexity | B6: Bakersfield | C6: Dentist | D6: 5 | E6: Bakersfield Dental Group | F6: 4.6 | G6: 569 | H6: bakersfielddentalgroup | I6: =IF(COUNTIFS($E$2:$E$199,E6,$B$2:$B$199,B6,$C$2:$C$199,C6,$A$2:$A$199,"<>"&A6)>0,"YES","")
A7: Perplexity | B7: Bakersfield | C7: Personal Injury Lawyer | D7: 1 | E7: Chain Cohn Clark | H7: chainlaw (own site) | I7: =IF(COUNTIFS($E$2:$E$199,E7,$B$2:$B$199,B7,$C$2:$C$199,C7,$A$2:$A$199,"<>"&A7)>0,"YES","")
A8: Perplexity | B8: Bakersfield | C8: Personal Injury Lawyer | D8: 2 | E8: Rodriguez & Associates | H8: rodriguezlaw (own site) | I8: =IF(COUNTIFS($E$2:$E$199,E8,$B$2:$B$199,B8,$C$2:$C$199,C8,$A$2:$A$199,"<>"&A8)>0,"YES","")
A9: Perplexity | B9: Bakersfield | C9: Personal Injury Lawyer | D9: 3 | E9: Law Offices of Craig A. Edmonston | H9: edmonstonlaw (own site) | I9: =IF(COUNTIFS($E$2:$E$199,E9,$B$2:$B$199,B9,$C$2:$C$199,C9,$A$2:$A$199,"<>"&A9)>0,"YES","")
A10: Perplexity | B10: Bakersfield | C10: Personal Injury Lawyer | D10: 4 | E10: Kyle W. Jones | H10: kwjoneslaw (own site) | I10: =IF(COUNTIFS($E$2:$E$199,E10,$B$2:$B$199,B10,$C$2:$C$199,C10,$A$2:$A$199,"<>"&A10)>0,"YES","")
A11: Perplexity | B11: Bakersfield | C11: Personal Injury Lawyer | D11: 5 | E11: Law Offices of Mickey Fine | H11: personalinjurybakersfield (own site) | I11: =IF(COUNTIFS($E$2:$E$199,E11,$B$2:$B$199,B11,$C$2:$C$199,C11,$A$2:$A$199,"<>"&A11)>0,"YES","")
A12: Perplexity | B12: Bakersfield | C12: Plumber | D12: 1 | E12: Top Flight Plumbing | H12: own site | I12: =IF(COUNTIFS($E$2:$E$199,E12,$B$2:$B$199,B12,$C$2:$C$199,C12,$A$2:$A$199,"<>"&A12)>0,"YES","")
A13: Perplexity | B13: Bakersfield | C13: Plumber | D13: 2 | E13: Precision Plumbing | H13: own site | I13: =IF(COUNTIFS($E$2:$E$199,E13,$B$2:$B$199,B13,$C$2:$C$199,C13,$A$2:$A$199,"<>"&A13)>0,"YES","")
A14: Perplexity | B14: Bakersfield | C14: Plumber | D14: 3 | E14: Roto-Rooter | H14: rotorooter | I14: =IF(COUNTIFS($E$2:$E$199,E14,$B$2:$B$199,B14,$C$2:$C$199,C14,$A$2:$A$199,"<>"&A14)>0,"YES","")
A15: Perplexity | B15: Bakersfield | C15: Plumber | D15: 4 | E15: Forward Bound Plumbing | H15: own site | I15: =IF(COUNTIFS($E$2:$E$199,E15,$B$2:$B$199,B15,$C$2:$C$199,C15,$A$2:$A$199,"<>"&A15)>0,"YES","")
A16: Perplexity | B16: Bakersfield | C16: Plumber | D16: 5 | E16: The Plumbing Doc | H16: own site | I16: =IF(COUNTIFS($E$2:$E$199,E16,$B$2:$B$199,B16,$C$2:$C$199,C16,$A$2:$A$199,"<>"&A16)>0,"YES","")
A17: Perplexity | B17: Bakersfield | C17: Landscaping | D17: 1 | E17: Venturi Landscape | F17: 5 | G17: 43 | H17: serviceagent / own site | I17: =IF(COUNTIFS($E$2:$E$199,E17,$B$2:$B$199,B17,$C$2:$C$199,C17,$A$2:$A$199,"<>"&A17)>0,"YES","")
A18: Perplexity | B18: Bakersfield | C18: Landscaping | D18: 2 | E18: Monji Landscape Companies | H18: own site | I18: =IF(COUNTIFS($E$2:$E$199,E18,$B$2:$B$199,B18,$C$2:$C$199,C18,$A$2:$A$199,"<>"&A18)>0,"YES","")
A19: Perplexity | B19: Bakersfield | C19: Landscaping | D19: 3 | E19: Equity Landscapes | H19: own site | I19: =IF(COUNTIFS($E$2:$E$199,E19,$B$2:$B$199,B19,$C$2:$C$199,C19,$A$2:$A$199,"<>"&A19)>0,"YES","")
A20: Perplexity | B20: Bakersfield | C20: Landscaping | D20: 4 | E20: Torres Landscaping & Concrete | H20: reddit | I20: =IF(COUNTIFS($E$2:$E$199,E20,$B$2:$B$199,B20,$C$2:$C$199,C20,$A$2:$A$199,"<>"&A20)>0,"YES","")
A21: Perplexity | B21: Bakersfield | C21: Landscaping | D21: 5 | E21: Select Landscape Inc. | H21: own site | I21: =IF(COUNTIFS($E$2:$E$199,E21,$B$2:$B$199,B21,$C$2:$C$199,C21,$A$2:$A$199,"<>"&A21)>0,"YES","")
A22: Perplexity | B22: Fresno | C22: Dentist | D22: 1 | E22: Whitlow Dental Care | F22: 4.8 | G22: 217 | H22: deltadental / own site | I22: =IF(COUNTIFS($E$2:$E$199,E22,$B$2:$B$199,B22,$C$2:$C$199,C22,$A$2:$A$199,"<>"&A22)>0,"YES","")
A23: Perplexity | B23: Fresno | C23: Dentist | D23: 2 | E23: Asiri Dental | F23: 4.7 | G23: 592 | H23: own site | I23: =IF(COUNTIFS($E$2:$E$199,E23,$B$2:$B$199,B23,$C$2:$C$199,C23,$A$2:$A$199,"<>"&A23)>0,"YES","")
A24: Perplexity | B24: Fresno | C24: Dentist | D24: 3 | E24: S Street Children's Dentistry & Orthodontics | F24: 4.9 | G24: 331 | H24: vcdo | I24: =IF(COUNTIFS($E$2:$E$199,E24,$B$2:$B$199,B24,$C$2:$C$199,C24,$A$2:$A$199,"<>"&A24)>0,"YES","")
A25: Perplexity | B25: Fresno | C25: Dentist | D25: 4 | E25: Fresno Dental Surgery Center | F25: 4.1 | G25: 442 | H25: bluecloudpsc | I25: =IF(COUNTIFS($E$2:$E$199,E25,$B$2:$B$199,B25,$C$2:$C$199,C25,$A$2:$A$199,"<>"&A25)>0,"YES","")
A26: Perplexity | B26: Fresno | C26: Dentist | D26: 5 | E26: Dr. David Carter Emergency Dentist | H26: listing | I26: =IF(COUNTIFS($E$2:$E$199,E26,$B$2:$B$199,B26,$C$2:$C$199,C26,$A$2:$A$199,"<>"&A26)>0,"YES","")
A27: Perplexity | B27: Fresno | C27: Personal Injury Lawyer | D27: 1 | E27: Martin Gasparian | H27: Super Lawyers | I27: =IF(COUNTIFS($E$2:$E$199,E27,$B$2:$B$199,B27,$C$2:$C$199,C27,$A$2:$A$199,"<>"&A27)>0,"YES","")
A28: Perplexity | B28: Fresno | C28: Personal Injury Lawyer | D28: 2 | E28: Cioffi Remmer | H28: Super Lawyers | I28: =IF(COUNTIFS($E$2:$E$199,E28,$B$2:$B$199,B28,$C$2:$C$199,C28,$A$2:$A$199,"<>"&A28)>0,"YES","")
A29: Perplexity | B29: Fresno | C29: Personal Injury Lawyer | D29: 3 | E29: Kristin M. Lucey | H29: Super Lawyers | I29: =IF(COUNTIFS($E$2:$E$199,E29,$B$2:$B$199,B29,$C$2:$C$199,C29,$A$2:$A$199,"<>"&A29)>0,"YES","")
A30: Perplexity | B30: Fresno | C30: Personal Injury Lawyer | D30: 4 | E30: Todd B. Barsotti | H30: Super Lawyers | I30: =IF(COUNTIFS($E$2:$E$199,E30,$B$2:$B$199,B30,$C$2:$C$199,C30,$A$2:$A$199,"<>"&A30)>0,"YES","")
A31: Perplexity | B31: Fresno | C31: Personal Injury Lawyer | D31: 5 | E31: Auto Injury Fresno (Tim Mazzela) | H31: own site | I31: =IF(COUNTIFS($E$2:$E$199,E31,$B$2:$B$199,B31,$C$2:$C$199,C31,$A$2:$A$199,"<>"&A31)>0,"YES","")
A32: Perplexity | B32: Fresno | C32: Plumber | D32: 1 | E32: Rod's Plumbing Service | F32: 5 | G32: 246 | H32: own site | I32: =IF(COUNTIFS($E$2:$E$199,E32,$B$2:$B$199,B32,$C$2:$C$199,C32,$A$2:$A$199,"<>"&A32)>0,"YES","")
A33: Perplexity | B33: Fresno | C33: Plumber | D33: 2 | E33: Stedman's Plumbing | F33: 4.9 | G33: 166 | H33: own site | I33: =IF(COUNTIFS($E$2:$E$199,E33,$B$2:$B$199,B33,$C$2:$C$199,C33,$A$2:$A$199,"<>"&A33)>0,"YES","")
A34: Perplexity | B34: Fresno | C34: Plumber | D34: 3 | E34: PR Plumbing, Heating & Air | H34: own site | I34: =IF(COUNTIFS($E$2:$E$199,E34,$B$2:$B$199,B34,$C$2:$C$199,C34,$A$2:$A$199,"<>"&A34)>0,"YES","")
A35: Perplexity | B35: Fresno | C35: Plumber | D35: 4 | E35: Roto-Rooter | H35: rotorooter | I35: =IF(COUNTIFS($E$2:$E$199,E35,$B$2:$B$199,B35,$C$2:$C$199,C35,$A$2:$A$199,"<>"&A35)>0,"YES","")
A36: Perplexity | B36: Fresno | C36: Plumber | D36: 5 | E36: All Star Plumbing | H36: own site | I36: =IF(COUNTIFS($E$2:$E$199,E36,$B$2:$B$199,B36,$C$2:$C$199,C36,$A$2:$A$199,"<>"&A36)>0,"YES","")
A37: Perplexity | B37: Fresno | C37: Landscaping | D37: 1 | E37: A T Landscaping | G37: 179 | H37: Yelp | I37: =IF(COUNTIFS($E$2:$E$199,E37,$B$2:$B$199,B37,$C$2:$C$199,C37,$A$2:$A$199,"<>"&A37)>0,"YES","")
A38: Perplexity | B38: Fresno | C38: Landscaping | D38: 2 | E38: Picture Perfect Lawn | G38: 72 | H38: Yelp | I38: =IF(COUNTIFS($E$2:$E$199,E38,$B$2:$B$199,B38,$C$2:$C$199,C38,$A$2:$A$199,"<>"&A38)>0,"YES","")
A39: Perplexity | B39: Fresno | C39: Landscaping | D39: 3 | E39: Pablo's Landscaping & Concrete | G39: 68 | H39: Yelp | I39: =IF(COUNTIFS($E$2:$E$199,E39,$B$2:$B$199,B39,$C$2:$C$199,C39,$A$2:$A$199,"<>"&A39)>0,"YES","")
A40: Perplexity | B40: Fresno | C40: Landscaping | D40: 4 | E40: Specialty Landscape Inc. | H40: Quality Business Awards | I40: =IF(COUNTIFS($E$2:$E$199,E40,$B$2:$B$199,B40,$C$2:$C$199,C40,$A$2:$A$199,"<>"&A40)>0,"YES","")
A41: Perplexity | B41: Fresno | C41: Landscaping | D41: 5 | E41: Premier Scape and Design | H41: reddit | I41: =IF(COUNTIFS($E$2:$E$199,E41,$B$2:$B$199,B41,$C$2:$C$199,C41,$A$2:$A$199,"<>"&A41)>0,"YES","")
A42: Perplexity | B42: Los Angeles | C42: Dentist | D42: 1 | E42: Smile L.A. Downtown Modern Dentistry | F42: 4.9 | G42: 855 | H42: Local listings | I42: =IF(COUNTIFS($E$2:$E$199,E42,$B$2:$B$199,B42,$C$2:$C$199,C42,$A$2:$A$199,"<>"&A42)>0,"YES","")
A43: Perplexity | B43: Los Angeles | C43: Dentist | D43: 2 | E43: Union Dental Center | F43: 4.9 | G43: 911 | H43: Local listings | I43: =IF(COUNTIFS($E$2:$E$199,E43,$B$2:$B$199,B43,$C$2:$C$199,C43,$A$2:$A$199,"<>"&A43)>0,"YES","")
A44: Perplexity | B44: Los Angeles | C44: Dentist | D44: 3 | E44: Downtown Dental | F44: 4.6 | G44: 453 | H44: Local listings | I44: =IF(COUNTIFS($E$2:$E$199,E44,$B$2:$B$199,B44,$C$2:$C$199,C44,$A$2:$A$199,"<>"&A44)>0,"YES","")
A45: Perplexity | B45: Los Angeles | C45: Dentist | D45: 4 | E45: City of Angels Dentistry | F45: 5 | G45: 114 | H45: Local listings | I45: =IF(COUNTIFS($E$2:$E$199,E45,$B$2:$B$199,B45,$C$2:$C$199,C45,$A$2:$A$199,"<>"&A45)>0,"YES","")
A46: Perplexity | B46: Los Angeles | C46: Dentist | D46: 5 | E46: Crystal Dental | F46: 4.7 | G46: 527 | H46: Local listings | I46: =IF(COUNTIFS($E$2:$E$199,E46,$B$2:$B$199,B46,$C$2:$C$199,C46,$A$2:$A$199,"<>"&A46)>0,"YES","")
A47: Perplexity | B47: Los Angeles | C47: Personal Injury Lawyer | D47: 1 | E47: TORKLAW | H47: Best Law Firms | I47: =IF(COUNTIFS($E$2:$E$199,E47,$B$2:$B$199,B47,$C$2:$C$199,C47,$A$2:$A$199,"<>"&A47)>0,"YES","")
A48: Perplexity | B48: Los Angeles | C48: Personal Injury Lawyer | D48: 2 | E48: Wilshire Law Firm | H48: Best Law Firms | I48: =IF(COUNTIFS($E$2:$E$199,E48,$B$2:$B$199,B48,$C$2:$C$199,C48,$A$2:$A$199,"<>"&A48)>0,"YES","")
A49: Perplexity | B49: Los Angeles | C49: Personal Injury Lawyer | D49: 3 | E49: The Dominguez Firm | H49: own site | I49: =IF(COUNTIFS($E$2:$E$199,E49,$B$2:$B$199,B49,$C$2:$C$199,C49,$A$2:$A$199,"<>"&A49)>0,"YES","")
A50: Perplexity | B50: Los Angeles | C50: Personal Injury Lawyer | D50: 4 | E50: Cohen & Marzban | H50: own site | I50: =IF(COUNTIFS($E$2:$E$199,E50,$B$2:$B$199,B50,$C$2:$C$199,C50,$A$2:$A$199,"<>"&A50)>0,"YES","")
A51: Perplexity | B51: Los Angeles | C51: Personal Injury Lawyer | D51: 5 | E51: Blair & Ramirez LLP | H51: own site | I51: =IF(COUNTIFS($E$2:$E$199,E51,$B$2:$B$199,B51,$C$2:$C$199,C51,$A$2:$A$199,"<>"&A51)>0,"YES","")
A52: Perplexity | B52: Los Angeles | C52: Plumber | D52: 1 | E52: Hotline Plumbing & Rooter | G52: 1832 | H52: Yelp | I52: =IF(COUNTIFS($E$2:$E$199,E52,$B$2:$B$199,B52,$C$2:$C$199,C52,$A$2:$A$199,"<>"&A52)>0,"YES","")
A53: Perplexity | B53: Los Angeles | C53: Plumber | D53: 2 | E53: Plumbing Boys | G53: 1097 | H53: Yelp | I53: =IF(COUNTIFS($E$2:$E$199,E53,$B$2:$B$199,B53,$C$2:$C$199,C53,$A$2:$A$199,"<>"&A53)>0,"YES","")
A54: Perplexity | B54: Los Angeles | C54: Plumber | D54: 3 | E54: Shellback Plumbing and Drain | G54: 780 | H54: Yelp | I54: =IF(COUNTIFS($E$2:$E$199,E54,$B$2:$B$199,B54,$C$2:$C$199,C54,$A$2:$A$199,"<>"&A54)>0,"YES","")
A55: Perplexity | B55: Los Angeles | C55: Plumber | D55: 4 | E55: Plumber 2 The Rescue | G55: 773 | H55: Yelp | I55: =IF(COUNTIFS($E$2:$E$199,E55,$B$2:$B$199,B55,$C$2:$C$199,C55,$A$2:$A$199,"<>"&A55)>0,"YES","")
A56: Perplexity | B56: Los Angeles | C56: Plumber | D56: 5 | E56: Roto-Rooter | H56: rotorooter | I56: =IF(COUNTIFS($E$2:$E$199,E56,$B$2:$B$199,B56,$C$2:$C$199,C56,$A$2:$A$199,"<>"&A56)>0,"YES","")
A57: Perplexity | B57: Los Angeles | C57: Landscaping | D57: 1 | E57: Herencia Landscaping | H57: own site | I57: =IF(COUNTIFS($E$2:$E$199,E57,$B$2:$B$199,B57,$C$2:$C$199,C57,$A$2:$A$199,"<>"&A57)>0,"YES","")
A58: Perplexity | B58: Los Angeles | C58: Landscaping | D58: 2 | E58: Artscape Gardens | H58: own site | I58: =IF(COUNTIFS($E$2:$E$199,E58,$B$2:$B$199,B58,$C$2:$C$199,C58,$A$2:$A$199,"<>"&A58)>0,"YES","")
A59: Perplexity | B59: Los Angeles | C59: Landscaping | D59: 3 | E59: Flores Artscape | H59: own site | I59: =IF(COUNTIFS($E$2:$E$199,E59,$B$2:$B$199,B59,$C$2:$C$199,C59,$A$2:$A$199,"<>"&A59)>0,"YES","")
A60: Perplexity | B60: Los Angeles | C60: Landscaping | D60: 4 | E60: RainforestLA | H60: own site | I60: =IF(COUNTIFS($E$2:$E$199,E60,$B$2:$B$199,B60,$C$2:$C$199,C60,$A$2:$A$199,"<>"&A60)>0,"YES","")
A61: Perplexity | B61: Los Angeles | C61: Landscaping | D61: 5 | E61: Prime Hardscape | H61: Yelp | I61: =IF(COUNTIFS($E$2:$E$199,E61,$B$2:$B$199,B61,$C$2:$C$199,C61,$A$2:$A$199,"<>"&A61)>0,"YES","")
A62: Perplexity | B62: San Diego | C62: Dentist | D62: 1 | E62: Fifth Avenue Dental Arts | F62: 4.8 | G62: 939 | H62: own site | I62: =IF(COUNTIFS($E$2:$E$199,E62,$B$2:$B$199,B62,$C$2:$C$199,C62,$A$2:$A$199,"<>"&A62)>0,"YES","")
A63: Perplexity | B63: San Diego | C63: Dentist | D63: 2 | E63: SmileStyle Dental Studio | F63: 5 | G63: 500 | H63: Local listings | I63: =IF(COUNTIFS($E$2:$E$199,E63,$B$2:$B$199,B63,$C$2:$C$199,C63,$A$2:$A$199,"<>"&A63)>0,"YES","")
A64: Perplexity | B64: San Diego | C64: Dentist | D64: 3 | E64: Urban Dental | F64: 5 | G64: 89 | H64: Local listings | I64: =IF(COUNTIFS($E$2:$E$199,E64,$B$2:$B$199,B64,$C$2:$C$199,C64,$A$2:$A$199,"<>"&A64)>0,"YES","")
A65: Perplexity | B65: San Diego | C65: Dentist | D65: 4 | E65: Marina District Dentistry | F65: 4.9 | G65: 243 | H65: Local listings | I65: =IF(COUNTIFS($E$2:$E$199,E65,$B$2:$B$199,B65,$C$2:$C$199,C65,$A$2:$A$199,"<>"&A65)>0,"YES","")
A66: Perplexity | B66: San Diego | C66: Dentist | D66: 5 | E66: Park Dental Arts | F66: 4.8 | G66: 129 | H66: Local listings | I66: =IF(COUNTIFS($E$2:$E$199,E66,$B$2:$B$199,B66,$C$2:$C$199,C66,$A$2:$A$199,"<>"&A66)>0,"YES","")
A67: Perplexity | B67: San Diego | C67: Personal Injury Lawyer | D67: 1 | E67: Gomez Trial Attorneys | H67: own site | I67: =IF(COUNTIFS($E$2:$E$199,E67,$B$2:$B$199,B67,$C$2:$C$199,C67,$A$2:$A$199,"<>"&A67)>0,"YES","")
A68: Perplexity | B68: San Diego | C68: Personal Injury Lawyer | D68: 2 | E68: The McClellan Law Firm | H68: own site | I68: =IF(COUNTIFS($E$2:$E$199,E68,$B$2:$B$199,B68,$C$2:$C$199,C68,$A$2:$A$199,"<>"&A68)>0,"YES","")
A69: Perplexity | B69: San Diego | C69: Personal Injury Lawyer | D69: 3 | E69: Martinez & Schill | H69: Super Lawyers | I69: =IF(COUNTIFS($E$2:$E$199,E69,$B$2:$B$199,B69,$C$2:$C$199,C69,$A$2:$A$199,"<>"&A69)>0,"YES","")
A70: Perplexity | B70: San Diego | C70: Personal Injury Lawyer | D70: 4 | E70: Law Offices of Keith Jordan Stone | H70: Avvo | I70: =IF(COUNTIFS($E$2:$E$199,E70,$B$2:$B$199,B70,$C$2:$C$199,C70,$A$2:$A$199,"<>"&A70)>0,"YES","")
A71: Perplexity | B71: San Diego | C71: Plumber | D71: 1 | E71: Collins Pacific Plumbing | H71: Yahoo Local roundup | I71: =IF(COUNTIFS($E$2:$E$199,E71,$B$2:$B$199,B71,$C$2:$C$199,C71,$A$2:$A$199,"<>"&A71)>0,"YES","")
A72: Perplexity | B72: San Diego | C72: Plumber | D72: 2 | E72: Roto-Rooter | H72: rotorooter | I72: =IF(COUNTIFS($E$2:$E$199,E72,$B$2:$B$199,B72,$C$2:$C$199,C72,$A$2:$A$199,"<>"&A72)>0,"YES","")
A73: Perplexity | B73: San Diego | C73: Plumber | D73: 3 | E73: Mr. Rooter Plumbing of San Diego County | H73: own site | I73: =IF(COUNTIFS($E$2:$E$199,E73,$B$2:$B$199,B73,$C$2:$C$199,C73,$A$2:$A$199,"<>"&A73)>0,"YES","")
A74: Perplexity | B74: San Diego | C74: Plumber | D74: 4 | E74: Ability Plumbing Service & Repair | H74: own site | I74: =IF(COUNTIFS($E$2:$E$199,E74,$B$2:$B$199,B74,$C$2:$C$199,C74,$A$2:$A$199,"<>"&A74)>0,"YES","")
A75: Perplexity | B75: San Diego | C75: Plumber | D75: 5 | E75: All American Plumbing | H75: reddit | I75: =IF(COUNTIFS($E$2:$E$199,E75,$B$2:$B$199,B75,$C$2:$C$199,C75,$A$2:$A$199,"<>"&A75)>0,"YES","")
A76: Perplexity | B76: San Diego | C76: Landscaping | D76: 1 | E76: Torrey Pines Landscape Company | H76: own site | I76: =IF(COUNTIFS($E$2:$E$199,E76,$B$2:$B$199,B76,$C$2:$C$199,C76,$A$2:$A$199,"<>"&A76)>0,"YES","")
A77: Perplexity | B77: San Diego | C77: Landscaping | D77: 2 | E77: The Landscape Company | H77: own site | I77: =IF(COUNTIFS($E$2:$E$199,E77,$B$2:$B$199,B77,$C$2:$C$199,C77,$A$2:$A$199,"<>"&A77)>0,"YES","")
A78: Perplexity | B78: San Diego | C78: Landscaping | D78: 3 | E78: BrightView Landscapes | H78: own site | I78: =IF(COUNTIFS($E$2:$E$199,E78,$B$2:$B$199,B78,$C$2:$C$199,C78,$A$2:$A$199,"<>"&A78)>0,"YES","")
... A80: Perplexity | B80: San Diego | C80: Landscaping | D80: 5 | E80: Pacific Landscaping & Maintenance | H80: own site | I80: =IF(COUNTIFS($E$2:$E$199,E80,$B$2:$B$199,B80,$C$2:$C$199,C80,$A$2:$A$199,"<>"&A80)>0,"YES","")
A81: Perplexity | B81: Sacramento | C81: Dentist | D81: 1 | E81: Miyasaki Dental | F81: 5 | G81: 392 | H81: own site | I81: =IF(COUNTIFS($E$2:$E$199,E81,$B$2:$B$199,B81,$C$2:$C$199,C81,$A$2:$A$199,"<>"&A81)>0,"YES","")
A82: Perplexity | B82: Sacramento | C82: Dentist | D82: 2 | E82: East Sac Dental | F82: 4.9 | G82: 774 | H82: own site | I82: =IF(COUNTIFS($E$2:$E$199,E82,$B$2:$B$199,B82,$C$2:$C$199,C82,$A$2:$A$199,"<>"&A82)>0,"YES","")
A83: Perplexity | B83: Sacramento | C83: Dentist | D83: 3 | E83: J Street Dental Group | F83: 4.9 | G83: 622 | H83: own site | I83: =IF(COUNTIFS($E$2:$E$199,E83,$B$2:$B$199,B83,$C$2:$C$199,C83,$A$2:$A$199,"<>"&A83)>0,"YES","")
A84: Perplexity | B84: Sacramento | C84: Dentist | D84: 4 | E84: Capitol City Dental | F84: 4.7 | G84: 396 | H84: deltadental | I84: =IF(COUNTIFS($E$2:$E$199,E84,$B$2:$B$199,B84,$C$2:$C$199,C84,$A$2:$A$199,"<>"&A84)>0,"YES","")
A85: Perplexity | B85: Sacramento | C85: Dentist | D85: 5 | E85: Midtown Dental | F85: 4.9 | G85: 286 | H85: Local listings | I85: =IF(COUNTIFS($E$2:$E$199,E85,$B$2:$B$199,B85,$C$2:$C$199,C85,$A$2:$A$199,"<>"&A85)>0,"YES","")
A86: Perplexity | B86: Sacramento | C86: Personal Injury Lawyer | D86: 1 | E86: Dreyer Babich Buccola Wood Campora | H86: own site | I86: =IF(COUNTIFS($E$2:$E$199,E86,$B$2:$B$199,B86,$C$2:$C$199,C86,$A$2:$A$199,"<>"&A86)>0,"YES","")
A87: Perplexity | B87: Sacramento | C87: Personal Injury Lawyer | D87: 2 | E87: Demas Law Group | H87: own site | I87: =IF(COUNTIFS($E$2:$E$199,E87,$B$2:$B$199,B87,$C$2:$C$199,C87,$A$2:$A$199,"<>"&A87)>0,"YES","")
A88: Perplexity | B88: Sacramento | C88: Personal Injury Lawyer | D88: 3 | E88: Tiemann Law Firm | H88: own site | I88: =IF(COUNTIFS($E$2:$E$199,E88,$B$2:$B$199,B88,$C$2:$C$199,C88,$A$2:$A$199,"<>"&A88)>0,"YES","")
A89: Perplexity | B89: Sacramento | C89: Personal Injury Lawyer | D89: 4 | E89: Moseley Collins Law | H89: own site | I89: =IF(COUNTIFS($E$2:$E$199,E89,$B$2:$B$199,B89,$C$2:$C$199,C89,$A$2:$A$199,"<>"&A89)>0,"YES","")
A90: Perplexity | B90: Sacramento | C90: Personal Injury Lawyer | D90: 5 | E90: Del Rio & Caraway | H90: own site | I90: =IF(COUNTIFS($E$2:$E$199,E90,$B$2:$B$199,B90,$C$2:$C$199,C90,$A$2:$A$199,"<>"&A90)>0,"YES","")
A91: Perplexity | B91: Sacramento | C91: Plumber | D91: 1 | E91: Armstrong Plumbing | F91: 4.8 | G91: 1000 | H91: own site | I91: =IF(COUNTIFS($E$2:$E$199,E91,$B$2:$B$199,B91,$C$2:$C$199,C91,$A$2:$A$199,"<>"&A91)>0,"YES","")
A92: Perplexity | B92: Sacramento | C92: Plumber | D92: 2 | E92: Roto-Rooter | H92: rotorooter | I92: =IF(COUNTIFS($E$2:$E$199,E92,$B$2:$B$199,B92,$C$2:$C$199,C92,$A$2:$A$199,"<>"&A92)>0,"YES","")
A93: Perplexity | B93: Sacramento | C93: Plumber | D93: 3 | E93: Local Hero Plumbing | F93: 4.9 | G93: 71 | H93: Thumbtack | I93: =IF(COUNTIFS($E$2:$E$199,E93,$B$2:$B$199,B93,$C$2:$C$199,C93,$A$2:$A$199,"<>"&A93)>0,"YES","")
A94: Perplexity | B94: Sacramento | C94: Plumber | D94: 4 | E94: Gilmore Heating, Air, and Plumbing | H94: own site | I94: =IF(COUNTIFS($E$2:$E$199,E94,$B$2:$B$199,B94,$C$2:$C$199,C94,$A$2:$A$199,"<>"&A94)>0,"YES","")
A95: Perplexity | B95: Sacramento | C95: Plumber | D95: 5 | E95: 5 Star Plumbing | H95: Yelp | I95: =IF(COUNTIFS($E$2:$E$199,E95,$B$2:$B$199,B95,$C$2:$C$199,C95,$A$2:$A$199,"<>"&A95)>0,"YES","")
A96: Perplexity | B96: Sacramento | C96: Landscaping | D96: 1 | E96: Caligreen Landscaping | H96: own site | I96: =IF(COUNTIFS($E$2:$E$199,E96,$B$2:$B$199,B96,$C$2:$C$199,C96,$A$2:$A$199,"<>"&A96)>0,"YES","")
A97: Perplexity | B97: Sacramento | C97: Landscaping | D97: 2 | E97: A.D. Landscape Service | H97: own site | I97: =IF(COUNTIFS($E$2:$E$199,E97,$B$2:$B$199,B97,$C$2:$C$199,C97,$A$2:$A$199,"<>"&A97)>0,"YES","")
A98: Perplexity | B98: Sacramento | C98: Landscaping | D98: 3 | E98: FiveSTAR Landscape | H98: own site | I98: =IF(COUNTIFS($E$2:$E$199,E98,$B$2:$B$199,B98,$C$2:$C$199,C98,$A$2:$A$199,"<>"&A98)>0,"YES","")
A99: Perplexity | B99: Sacramento | C99: Landscaping | D99: 4 | E99: Monarch Native Landscapes | H99: reddit | I99: =IF(COUNTIFS($E$2:$E$199,E99,$B$2:$B$199,B99,$C$2:$C$199,C99,$A$2:$A$199,"<>"&A99)>0,"YES","")
A100: Perplexity | B100: Sacramento | C100: Landscaping | D100: 5 | E100: Sacramento Landscape Company | F100: 4.71 | H100: own site | I100: =IF(COUNTIFS($E$2:$E$199,E100,$B$2:$B$199,B100,$C$2:$C$199,C100,$A$2:$A$199,"<>"&A100)>0,"YES","")
A101: ChatGPT | B101: Bakersfield | C101: Dentist | D101: 1 | E101: Healthy Smiles Family Dental | F101: 4.8 | G101: 1015 | H101: Local data | I101: =IF(COUNTIFS($E$2:$E$199,E101,$B$2:$B$199,B101,$C$2:$C$199,C101,$A$2:$A$199,"<>"&A101)>0,"YES","")
...

Sheet Methodology
A1: Methodology
A2: Date collected | B2: September 26, 2026 (single session, ~2–3 AM PT)
A3: Tools | B3: Perplexity (signed-in, default search; 'Pro' free preview was active) and ChatGPT (signed-in free account, web search triggered automatically)
A4: Prompt | B4: best {industry} in {city}, CA — typed exactly, one new conversation per prompt
A5: Industries | B5: dentist · personal injury lawyer · plumber · landscaping company
A6: Cities | B6: Bakersfield · Fresno · Los Angeles · San Diego · Sacramento
A7: Rank | B7: Order in which the AI named the business (first mentioned = 1). Top 5 recorded per answer.
A8: Rating / Reviews | B8: As quoted in the AI answer; blank when the AI did not state it. Not independently verified.
A9: Why 'personal injury lawyer' | B9: The generic prompt 'best lawyer in Bakersfield, CA' returned directories only, no firms.
A10: Limitations | B10: One run per prompt; AI answers vary by account, location, mode and time. LA answers skewed to Downtown LA. San Diego (Perplexity) and LA (ChatGPT) lawyer answers named only 4 firms. Not an endorsement of any business.
A11: Clicks Dynasty note | B11: Figures should be re-collected monthly and dated on the public page.
